BEGIN:VCALENDAR
VERSION:2.0
BEGIN:VEVENT
DTSTART:20260513T220000Z
DTEND:20260513T230000Z
LOCATION:2695 N Craycroft Rd\, Tucson\, AZ 85641
DESCRIPTION:What is wisdom\, and how does it relate to women? The Women’s Wisdom Circle provides a safe and supportive environment for women to share the knowledge they have gained throughout their lives. Through guided discussions the group will have the opportunity to share their insights\, because wisdom does not do any good if it is bottled up.\n\nThe group will meet on the second Wednesday of every month at 3:00 p.m. and will be facilitated by Mary Becker\, TMC Volunteer.\n\nOverview: https://events.tmcaz.com/event/womens-wisdom-circle-1-eceb7cc0/tab/overview/\n
SUMMARY:Women&#039;s Wisdom Circle
END:VEVENT
END:VCALENDAR