BEGIN:VCALENDAR
VERSION:2.0
BEGIN:VEVENT
DTSTART:20260514T170000Z
DTEND:20260514T190000Z
LOCATION:2695 N Craycroft Rd\, Tucson\, AZ 85641
DESCRIPTION:Thursday\, May 14 | 10 a.m. - 12 p.m.\n\nThis in-person session allows you to experience what it might be like to have dementia. To create confusion\, we limit your physical senses\, making it difficult for you to do simple tasks. You’ll learn what it’s like to “walk in their shoes” for five minutes and better understand the behaviors and needs of those with dementia. This session is for family caregivers caring for someone with dementia. It is NOT for those who have been told or suspects they have dementia.\n\nOverview: https://events.tmcaz.com/event/virtual-dementia-experience-1-2d578780/tab/overview/\n
SUMMARY:Virtual Dementia Experience
END:VEVENT
END:VCALENDAR