BEGIN:VCALENDAR
VERSION:2.0
BEGIN:VEVENT
DTSTART:20260514T230000Z
DTEND:20260515T000000Z
LOCATION:Online &amp; 2695 N Craycroft Rd\, Tucson\, AZ 85712
DESCRIPTION:Understanding Osteoporosis: Risk Factors\, Prevention &amp;amp\; Treatment\nSabina Mian\, M.D.\, Rheumatologist\, TMCOne | Thursday\, May 14 at 4 p.m.\n\nThe risk of developing osteoporosis increases as you age which can then increase the chances of you breaking a bone. Women are more likely to develop it later in life\, putting them at even higher risk of injuries. Join Sabina Mian\, M.D.\, Rheumatologist\, from TMCOne\, to gain a clearer understanding of osteoporosis\, the common risk factors\, screening guidelines\, and current treatment options.\n\nOverview: https://events.tmcaz.com/event/understanding-osteoporosis-risk-factors-prevention-treatment/tab/overview/\n
SUMMARY:Understanding Osteoporosis: Risk Factors, Prevention &amp; Treatment
END:VEVENT
END:VCALENDAR