BEGIN:VCALENDAR
VERSION:2.0
BEGIN:VEVENT
DTSTART:20260521T160000Z
DTEND:20260521T200000Z
LOCATION:Online
DESCRIPTION:Following International Lactation Consultant Association (ILCA) recommendations and American Academy of Pediatrics (AAP) guidelines\, InJoy’s all-new\, research-based Understanding Breastfeeding curriculum helps improve a mother’s chances for breastfeeding success.\n\nThrough step-by-step instructions and 3D animation\, moms learn how to achieve a deep latch\, which breastfeeding holds and positions are best for them\, and how to maintain healthy milk production.\n\nThis complete curriculum standardizes breastfeeding education with consistent content in a variety of teaching formats. Available formats: Video Program\, Printed Book + Web App (Web App also available on its own)\, PowerPoint Program\, and eClass.\n\nCONTENT INCLUDES:\n\n·         How breastfeeding works: 3D breast anatomy and milk production animation\, colostrum\, breastmilk qualities\, why breastfeeding is important\, AAP exclusivity recommendations.\n\n·         Getting the best start: Sharing breastfeeding plans with hospital staff\, skin-to-skin contact\, rooming-in\, lactation consultants\, pacifier recommendations.\n\n·         Latching on: Reclined and upright positions\, 3D animation comparing deep and shallow latches.\n\n·         Breastfeeding positions: Laid-back\, cross-cradle\, football\, side-lying\, cradle hold.\n\n·         When to feed your baby: Hunger and satiation cues\, feeding patterns and guidelines\, how to feed a sleepy baby\, cluster feedings.\n\n·         Getting enough milk: Signs of milk transfer\, growth spurts\, feeding and diaper log\, stool and urine guidelines\, weight gain\, getting help.\n\n·         Breast care: Normal breast fullness\, hand expression and pumping\, engorgement\, nipple tenderness\, mastitis and other warning signs.\n\n·         Breastfeeding lifestyle: Partner support and involvement\, feeding in public\, self-care\, substances to avoid\, support groups\, returning to work.\n\nOverview: https://events.tmcaz.com/event/understanding-breastfeeding-online-course-aeb01e5b/tab/overview/\n
SUMMARY:Understanding Breastfeeding Online Course
END:VEVENT
END:VCALENDAR