BEGIN:VCALENDAR
VERSION:2.0
BEGIN:VEVENT
DTSTART:20260711T160000Z
DTEND:20260711T230000Z
LOCATION:
DESCRIPTION:This class is designed to provide parents with an overview of what to expect during childbirth and options regarding labor\, birth and postpartum. You will gain the knowledge you need to be an active participant in your baby&#039;s birth\, and allow practice of the skills that can help make this experience the wonderful memory it is meant to be.\n\nPrice is per couple.\n\nRegister under mother&#039;s name.\n\nOverview: https://events.tmcaz.com/event/tmc-rincon-preparation-for-chilbirth-1-860dd786/tab/overview/\n
SUMMARY:TMC Rincon Preparation for Chilbirth
END:VEVENT
END:VCALENDAR