BEGIN:VCALENDAR
VERSION:2.0
BEGIN:VEVENT
DTSTART:20260506T170000Z
DTEND:20260506T180000Z
LOCATION:2695 N Craycroft Rd\, Tucson\, AZ 85712
DESCRIPTION:TMC for Senior’s Sonoran Stitchers\n1st Wednesday at 10 a.m.\n\nJoin the TMC for Seniors Sonoran Stitchers on the first Wednesday of every month for an hour of stitching and conversation! Whether you are a beginner or a seasoned stitcher\, come bring your current project\, share tips\, and enjoy the company of fellow crafters. Please note that this is not a structured class\, but a relaxed space to work on your craft and connect with others.\n\nOverview: https://events.tmcaz.com/event/tmc-for-seniors-sonoran-stitchers/tab/overview/\n
SUMMARY:TMC for Senior’s Sonoran Stitchers
END:VEVENT
END:VCALENDAR