BEGIN:VCALENDAR
VERSION:2.0
BEGIN:VEVENT
DTSTART:20260617T210000Z
DTEND:20260617T220000Z
LOCATION:Online &amp; 2695 N Craycroft Rd\, Tucson\, AZ 85712
DESCRIPTION:The Pelvic Floor Truth: What Women Need to Know\nSamantha Johnson\, PT\, DPT\, AT-Ret.\, TMC Outpatient Therapy | Wednesday\, June 17 at 2 p.m.\n\nMany women experience pelvic floor issues\, yet few feel comfortable talking about them. This class explains what the pelvic floor is\, common concerns such as bladder control and pelvic pain\, and when to seek help. Luckily\, like any muscle in the body\, pelvic floor muscles can be strengthened and in almost all cases\, trained to do their job well. Join Samantha Johnson\, PT\, DPT to learn more about the pelvic floor and how to keep yours healthy and strong.\n\nOverview: https://events.tmcaz.com/event/the-pelvic-floor-truth-what-women-need-to-know/tab/overview/\n
SUMMARY:The Pelvic Floor Truth: What Women Need to Know
END:VEVENT
END:VCALENDAR