BEGIN:VCALENDAR
VERSION:2.0
BEGIN:VEVENT
DTSTART:20260527T170000Z
DTEND:20260527T180000Z
LOCATION:2695 N Craycroft Rd\, Tucson\, AZ 85641
DESCRIPTION:Join us for an inside view that you won’t be able to get anywhere else. The Inside Story features guest speakers from a variety of backgrounds to provide you with a deeper look into a topic.\nWednesday\, May 27\, 10 a.m.\nSouthern Arizona Reptile Rescue &amp;amp\; Education\n\nOverview: https://events.tmcaz.com/event/the-inside-story-1-7742010f/tab/overview/\n
SUMMARY:The Inside Story
END:VEVENT
END:VCALENDAR