BEGIN:VCALENDAR
VERSION:2.0
BEGIN:VEVENT
DTSTART:20260513T210000Z
DTEND:20260513T220000Z
LOCATION:Online &amp; 2695 N Craycroft Rd\, Tucson\, AZ 85712
DESCRIPTION:Stress\, Mood and the Aging Female Brain\nJenine Hain\, Ph.D.\, A-Z Neuropsychology\, LLC | Wednesday\, May 13 at 2 p.m.\n\nDifferent parts of the brain age at different rates\, especially when you look at men and women’s brain separately. Memory\, emotional health\, and cognitive changes all play different roles at different stages of life. Join Jenine Hain\, Ph.D.\, from A-Z Neuropsychology LLC to discover how stress\, mood changes\, and hormonal shifts uniquely affect the aging female brain.\n\nOverview: https://events.tmcaz.com/event/stress-mood-and-the-aging-female-brain/tab/overview/\n
SUMMARY:Stress, Mood and the Aging Female Brain
END:VEVENT
END:VCALENDAR