BEGIN:VCALENDAR
VERSION:2.0
BEGIN:VEVENT
DTSTART:20260515T200000Z
DTEND:20260515T220000Z
LOCATION:2695 N Craycroft Rd\, Tucson\, AZ 85641
DESCRIPTION:Registration will open on Friday\, April. 24 at 10 a.m.\n\nSonoran Glass School: Garden Flower Stake\n\nFriday\, May 8 | 1-3 p.m. • $25\n\nJoin the Sonoran Glass school as they will walk you through the tools\, materials and process of making various fused glass projects. The cost for the session includes supplies\, instruction and fun! No art experience necessary. Workshops are not refundable or transferable. Images are just an example and may not represent the final project.\n\nCreate whimsical garden flower stakes in this fused glass workshop. Participants will use tools to cut\, layer and design their own colorful flowers that will be ready to sparkle and shine in their gardens are home.\n\nOverview: https://events.tmcaz.com/event/sonoran-glass-school-garden-stakes-1-1ab89cd5/tab/overview/\n
SUMMARY:Sonoran Glass School: Garden Flower Stake
END:VEVENT
END:VCALENDAR