BEGIN:VCALENDAR
VERSION:2.0
BEGIN:VEVENT
DTSTART:20260504T173000Z
DTEND:20260518T183000Z
LOCATION:2695 N Craycroft Rd\, Tucson\, AZ 85641
DESCRIPTION:Registration opens on Friday\, April 24 at 10 a.m.\n\nMondays | 10:30 -11:30 a.m. *No class on May 25\n\nFitness classes are now available at a convenient monthly rate! Be sure to register in advance to secure your spot\, as drop-in classes ($7 each) are subject to availability. Please note that refunds are considered on a case-by-case basis for the full month only and must be requested at least 24 hours before the first session.\n\nSeated Tai Chi is a 45 minute low-impact class designed for those who wish to gain the benefits of a Tai Chi class\, like relaxation\, flexibility\, andmental focus\, but do not have the balance or stamina for the standard Tai Chi class. The cost is $5 per class and registration in advance is required for each individual class.\n\nOverview: https://events.tmcaz.com/event/seated-tai-chi-1-add98bd3/tab/overview/\n
SUMMARY:Seated Tai Chi
END:VEVENT
END:VCALENDAR