BEGIN:VCALENDAR
VERSION:2.0
BEGIN:VEVENT
DTSTART:20260910T003000Z
DTEND:20260910T013000Z
LOCATION:901 W Rex Allen Dr\, Willcox\, AZ 85643
DESCRIPTION:Tucson Medical Center\, Northern Cochise Community Hospital and the Governor&#039;s Office of Highway Safety are partnering to offer FREE car seats to those in need.\n\nDuring the class\, you will learn how to keep children safe in cars as they grow by learning about rear-facing car seat use and forward-facing car seat use\, as well as booster seat and seat belt use. Child safety seats are provided at the completion of the entire class to those individuals who don’t currently have a seat or have one that is outdated\, recalled by the manufacturer\, involved in a collision\, with inadequate and/or missing parts\, or their child has outgrown.\n\n**Note** We only provide convertible car seats for children birth to 50lbs or booster seats for children 4 years old and who weigh at least 40lbs. We do not provide rear-facing only car seats otherwise known as infant carriers.\n\nOverview: https://events.tmcaz.com/event/ride-safe-kids-car-seat-education-class-willcox-da476501/tab/overview/\n
SUMMARY:Ride Safe Kids car seat education class - Willcox
END:VEVENT
END:VCALENDAR