BEGIN:VCALENDAR
VERSION:2.0
BEGIN:VEVENT
DTSTART:20260603T170000Z
DTEND:20260603T183000Z
LOCATION:2695 N Craycroft Rd\, Tucson\, AZ 85712
DESCRIPTION:Picture Perfect: iPhone Photography Basics\nDanielle Haider\, Photographer| Wednesday\, June 3 at 10 – 11:30 a.m.\n\nLearn how to take better photos using your iPhone in this beginner friendly class led by photographer Danielle Haider. You’ll learn simple tips and camera features to capture clearer\, brighter\, and more creative photos of everyday moments.\n\nOverview: https://events.tmcaz.com/event/picture-perfect-iphone-photography-basics/tab/overview/\n
SUMMARY:Picture Perfect: iPhone Photography Basics
END:VEVENT
END:VCALENDAR