BEGIN:VCALENDAR
VERSION:2.0
BEGIN:VEVENT
DTSTART:20260528T230000Z
DTEND:20260529T000000Z
LOCATION:Online &amp; 2695 N Craycroft Rd\, Tucson\, AZ 85712
DESCRIPTION:Navigating Gynecological Cancers – From Screening to Survivorship\nJillian O’Donnell\, M.D.\, TMC Health Cancer Center | Thursday May 28 at 4 p.m.\n\nGynecologic cancers are ones that effect the female reproductive system. Each one is unique\, with different signs and symptoms\, risk factors and prevention strategies. Join Candice Lewis\, M.D. from the TMC Health Cancer Center to learn more about these cancers\, what to expect during treatment and survivorship.\n\nOverview: https://events.tmcaz.com/event/navigating-gynecological-cancers-from-screening-to-survivorship/tab/overview/\n
SUMMARY:Navigating Gynecological Cancers – From Screening to Survivorship
END:VEVENT
END:VCALENDAR