BEGIN:VCALENDAR
VERSION:2.0
BEGIN:VEVENT
DTSTART:20260505T160000Z
DTEND:20260526T173000Z
LOCATION:2695 N Craycroft Rd\, Tucson\, AZ 85712
DESCRIPTION:Registration will open on Friday\, April 24 at 10 a.m.\nTuesdays\, May 5\, 12\, 19 &amp;amp\; 26 | 9 - 10:30 a.m.\nFitness classes are now available at a convenient monthly rate! Be sure to register in advance to secure your spot\, as drop-in classes ($7 each) are subject to availability. Please note that refunds are considered on a case-by-case basis for the full month only and must be requested at least 24 hours before the first session.\n\nThis weekly chair yoga practice will focus on body awareness\, breath work\, strength\, stability\, mindfulness\, and meditation. Yoga blankets will be provided but bring your own if you prefer. Wear loose\, comfortable clothing\, avoid strong smelling perfumes and lotions\, and bring your water bottle.\n\nConnie Lucas\, RYT 200/YogAlign/Restorative Yoga\nConnie has been teaching\, and learning since 2014 when\, at age 68\, she completed her initial 200 hours at Three Trees in Federal Way\, WA.\n\nOverview: https://events.tmcaz.com/event/mindfulness-chair-yoga-1-ca5ac7f5/tab/overview/\n
SUMMARY:Mindfulness Chair Yoga
END:VEVENT
END:VCALENDAR