BEGIN:VCALENDAR
VERSION:2.0
BEGIN:VEVENT
DTSTART:20260910T013000Z
DTEND:20260910T021500Z
LOCATION:
DESCRIPTION:Empowering families to make safe choices with medications\, this interactive workshop is designed to educate parents and caregivers on how to safely use\, store\, and dispose of medications in the home. Through hands-on demonstrations and practical guidance\, participants will learn how to prevent accidental poisonings\, reduce the risk of misuse\, and instill lifelong safety habits in their children.\n\nJoin the class and take home free tools to help keep your medications safe.\n\nOverview: https://events.tmcaz.com/event/meds-matter-parent-workhsop-willcox-1-5218100c/tab/overview/\n
SUMMARY:Meds Matter Parent Workhsop-Willcox
END:VEVENT
END:VCALENDAR