BEGIN:VCALENDAR
VERSION:2.0
BEGIN:VEVENT
DTSTART:20261111T013000Z
DTEND:20261111T021500Z
LOCATION:
DESCRIPTION:Empowering families to make safe choices with medications\, this interactive workshop is designed to educate parents and caregivers on how to safely use\, store\, and dispose of medications in the home. We discuss local statistics surrounding drug misuse and how to keep your children safe. Through hands-on demonstrations and practical guidance\, participants will learn how to prevent accidental poisonings\, reduce the risk of misuse\, and instill lifelong safety habits in their children.\n\nOverview: https://events.tmcaz.com/event/meds-matter-parent-class-benson-1-7fc04dfe/tab/overview/\n
SUMMARY:Meds Matter Parent Class-Benson
END:VEVENT
END:VCALENDAR