BEGIN:VCALENDAR
VERSION:2.0
BEGIN:VEVENT
DTSTART:20260623T013000Z
DTEND:20260623T030000Z
LOCATION:5301 E. Grant\, Tucson\, AZ 85712
DESCRIPTION:A hands-on class teaching parents and caregivers of infants under 12 months of age the basics on how to respond in an emergency where an infant stops breathing or is choking. The class is led by a CPR certified nurse.\n\nRegistration is per person not per couple for this class.\n\nOverview: https://events.tmcaz.com/event/infant-cpr-2-b48d8526/tab/overview/\nMap : https://events.tmcaz.com/event/infant-cpr-2-b48d8526/tab/map/\n
SUMMARY:Infant CPR
END:VEVENT
END:VCALENDAR