BEGIN:VCALENDAR
VERSION:2.0
BEGIN:VEVENT
DTSTART:20260716T210000Z
DTEND:20260716T220000Z
LOCATION:2695 N Craycroft Rd\, Tucson\, AZ 85641
DESCRIPTION:Join TMC for Seniors for a lively and fun monthly book club featuring a variety of books and genres. The group meets on the third Thursday of each month in-person only.\nThursday\, July 16\n\nShe&#039;s Not Sorry  by Mary Kubica\n\nMeghan Michaels is trying to find balance between being a single mum to a teenage daughter and working as a full-time nurse. While on duty at the hospital one day\, a patient named Caitlin arrives in a coma\, having plunged from a bridge onto train tracks below.\n\nBut when a witness comes forward with shocking details about the fall\, it calls everything they know into question. Was Caitlin pushed and if so\, by whom and why?\n\nMeghan has always tried to stay emotionally detached from her patients\, but this time\, she mistakenly lets herself get too close\, until she’s deeply entangled in Caitlin’s and her family’s lives. Only when it’s too late\, does she realise that she and her daughter could be the next victims.\n\nOverview: https://events.tmcaz.com/event/i-love-books-1-d529b5d0/tab/overview/\n
SUMMARY:I Love Books!
END:VEVENT
END:VCALENDAR