BEGIN:VCALENDAR
VERSION:2.0
BEGIN:VEVENT
DTSTART:20260618T210000Z
DTEND:20260618T220000Z
LOCATION:2695 N Craycroft Rd\, Tucson\, AZ 85641
DESCRIPTION:Join TMC for Seniors for a lively and fun monthly book club featuring a variety of books and genres. The group meets on the third Thursday of each month in-person only.\nThursday\, June 18\n\nHow to Age Disgracefully by Clare Pooley\n\nWhen Lydia takes a job running the Senior Citizens’ Social Club three afternoons a week\, she assumes she’ll be spending her time drinking tea and playing gentle games of cards.\n\nThe members of the Social Club\, however\, are not at all what Lydia was expecting. From Art\, a failed actor turned kleptomaniac to Daphne\, who has been hiding from her dark past for decades to Ruby\, a Banksy-style knitter who gets revenge in yarn\, these seniors look deceptively benign—but when age makes you invisible\, secrets are so much easier to hide.\n\nWhen the city council threatens to sell the doomed community center building\, the members of the Social Club join forces with their tiny friends in the daycare next door—as well as the teenaged father of one of the toddlers and a geriatric dog—to save the building. Together\, this group’s unorthodox methods may actually work\, as long as the police don’t catch up with them first.\n\nOverview: https://events.tmcaz.com/event/i-love-books-1-bfdb742e/tab/overview/\n
SUMMARY:I Love Books!
END:VEVENT
END:VCALENDAR