BEGIN:VCALENDAR
VERSION:2.0
BEGIN:VEVENT
DTSTART:20260820T210000Z
DTEND:20260820T220000Z
LOCATION:2695 N Craycroft Rd\, Tucson\, AZ 85641
DESCRIPTION:Join TMC for Seniors for a lively and fun monthly book club featuring a variety of books and genres. The group meets on the third Thursday of each month in-person only.\nThursday\, August 20\n\nWhen Harry Met Minnie by Martha Tichenor\n\nThere&#039;s a special camaraderie among early-morning dog walkers. Gathering at dog runs in the park\, or strolling through the farmer&#039;s market at Union Square before the bustling crowd appears\, fellow pet owners become familiar-as do the personalities of their beloved animals. In this special space and time\, a chance encounter with an old acquaintance changed Martha Teichner&#039;s world. As fate would have it\, her friend knew someone who was dying of cancer\, from exposure to toxins after 9/11\, and desperate to find a home for her dog\, Harry. He was a Bull Terrier--the same breed as Martha&#039;s dear Minnie. Would Martha consider giving Harry a safe\, loving new home?\n\nIn short order\, boy dog meets girl dog\, the fairy tale part of this story. But there is so much more to this book. After Martha agrees to meet Harry and his owner Carol\, what begins as a transaction involving a dog becomes a deep and meaningful friendship between two women with complicated lives and a love of Bull Terriers in common. Through the heartbreak and grief of Carol&#039;s illness\, the bond that develops changed Martha&#039;s life\, Carol&#039;s life\, Minnie&#039;s life\, Harry&#039;s life. As it changed Carol&#039;s death as well.\n\nOverview: https://events.tmcaz.com/event/i-love-books-1-40bfef47/tab/overview/\n
SUMMARY:I Love Books!
END:VEVENT
END:VCALENDAR