BEGIN:VCALENDAR
VERSION:2.0
BEGIN:VEVENT
DTSTART:20260524T233000Z
DTEND:20260525T013000Z
LOCATION:5301 E Grant Rd\, Tucson\, AZ 85712
DESCRIPTION:For newly expectant parents – guidance on the healthiest pregnancy possible. Learn about nutrition\, exercise\, fetal development\, and physical and emotional changes. Explore how to have a more comfortable and safe pregnancy. Those in their first trimester of pregnancy are especially  encouraged to attend. This class is taught by highly-qualified\, certified childbirth educators. A tour of TMC\;s Maternity Department is included. Register under mom&#039;s name\, and feel free to bring along one support person with you to class.\n\nOverview: https://events.tmcaz.com/event/healthy-pregnancy-3-c8ddcecc/tab/overview/\n
SUMMARY:Healthy Pregnancy
END:VEVENT
END:VCALENDAR