BEGIN:VCALENDAR
VERSION:2.0
BEGIN:VEVENT
DTSTART:20260505T170000Z
DTEND:20260505T180000Z
LOCATION:Online &amp; 2695 N Craycroft Rd\, Tucson\, AZ 85712
DESCRIPTION:From Shoebox to Shared Treasures: A Beginner’s Guide to Digital Preservation \nAmy Leigh Ellsworth\, University of Arizona Libraries | Tuesday\, May 5 at 10 a.m.\n\nLearn how to protect and preserve your treasured photos\, documents\, and memories in the digital age. This beginner-friendly session introduces simple\, practical ways to organize\, digitize\, and store personal collections so they can be enjoyed for generations. You’ll also learn best practices for sharing digital memories securely with family and friends.\n\nOverview: https://events.tmcaz.com/event/from-shoebox-to-shared-treasures-a-beginners-guide-to-digital-preservation/tab/overview/\n
SUMMARY:From Shoebox to Shared Treasures: A Beginner’s Guide to Digital Preservation
END:VEVENT
END:VCALENDAR