BEGIN:VCALENDAR
VERSION:2.0
BEGIN:VEVENT
DTSTART:20260630T013000Z
DTEND:20260630T040000Z
LOCATION:
DESCRIPTION:A one-night class is for families who want additional practice with breathing and relaxation\, or are expecting another baby and need a brush up on preparing for childbirth. This class explores extensive coping\, breathing and relaxation techniques for labor\, including breathing patterns\, massage\, visualization\, labor aids and coaching skills.\n\nPrice is per couple.\n\nRegister under mother&#039;s name.\n\nOverview: https://events.tmcaz.com/event/extended-breathing-1-3aefa0cf/tab/overview/\n
SUMMARY:Extended Breathing
END:VEVENT
END:VCALENDAR