BEGIN:VCALENDAR
VERSION:2.0
BEGIN:VEVENT
DTSTART:20260513T170000Z
DTEND:20260513T183000Z
LOCATION:2695 N Craycroft Rd\, Tucson\, AZ 85712
DESCRIPTION:Everyday Self Defense for Older Adults \nTMC Security | Wednesday\, May 13 at 10-11:30 a.m.\n\nSelf-dense isn’t just for the young and it doesn’t require complex moves. Protecting yourself can even be as simple as situational awareness and de-escalation. Join TMC Security to learn awareness skills\, simple techniques for personal safety\, and ways to reduce risk in everyday situations all geared towards helping you feel more confident and secure as you age. Please note: This class will include hands on demonstrations\, participation is not required to attend the class.\n\nOverview: https://events.tmcaz.com/event/everday-self-defense-for-older-adults/tab/overview/\n
SUMMARY:Everday Self Defense for Older Adults
END:VEVENT
END:VCALENDAR