BEGIN:VCALENDAR
VERSION:2.0
BEGIN:VEVENT
DTSTART:20260601T160000Z
DTEND:20260629T200000Z
LOCATION:450 S. Ocotillo Ave.\, Benson\, AZ 85602
DESCRIPTION:\n\n\n\n\n\n\n\nFuture Superhero Academy is a hands-on summer program for ages 11–16 that explores real healthcare careers through interactive activities\, hospital department tours\, and learning directly from medical professionals. Participants will discover how every role in a hospital makes a difference while earning a certificate of achievement\, a Future Superhero T-shirt\, and enjoying a fun\, educational experience.\n\n\n\n\n\n\n\n\n\nOverview: https://events.tmcaz.com/event/benson-future-superhero-academy-2026/tab/overview/\nAgenda: https://events.tmcaz.com/event/benson-future-superhero-academy-2026/tab/agenda/\n
SUMMARY:Benson Future Superhero Academy 2026
END:VEVENT
END:VCALENDAR