BEGIN:VCALENDAR
VERSION:2.0
BEGIN:VEVENT
DTSTART:20260507T221500Z
DTEND:20260528T231500Z
LOCATION:2695 N Craycroft Rd\, Tucson\, AZ 85712
DESCRIPTION:Registration will open on Friday\, April 24 at 10 a.m.\n\nThursdays\, May 7\, 14\, 21 &amp;amp\; 28 | 3:15 - 4:15 p.m.\n\nFitness classes are now available at a convenient monthly rate! Be sure to register in advance to secure your spot\, as drop-in classes ($7 each) are subject to availability. Please note that refunds are considered on a case-by-case basis for the full month only and must be requested at least 24 hours before the first session.\n\nThis beginning level class is low-impact and ideal for improving balance\, flexibility\,relaxation\, mental focus and overall wellbeing.The class focuses on the 10-form yang style of Tai Chi. The cost is $5 per class and registration in advance is requiredfor each individual class.\n\nOverview: https://events.tmcaz.com/event/beginning-tai-chi-2-b18ecbb6/tab/overview/\n
SUMMARY:Beginning Tai Chi
END:VEVENT
END:VCALENDAR