BEGIN:VCALENDAR
VERSION:2.0
BEGIN:VEVENT
DTSTART:20260505T010000Z
DTEND:20260505T040000Z
LOCATION:5301 E. Grant\, Tucson\, AZ 85712
DESCRIPTION:Join other soon-to-be parents in this one-night class and learn the basics of newborn care. Topics covered include newborn appearance\, feeding\, bathing\, diapering\, umbilical cord care\, when to call your health care provider\, and general safety.\n\nThis class is designed to take prior to baby&#039;s due date.\n\nClass fee is per couple.\n\nRegister under mother&#039;s name.\n\nOverview: https://events.tmcaz.com/event/baby-care-abcs-1-ecc4618e/tab/overview/\nMap : https://events.tmcaz.com/event/baby-care-abcs-1-ecc4618e/tab/map/\n
SUMMARY:Baby Care ABCs
END:VEVENT
END:VCALENDAR