BEGIN:VCALENDAR
VERSION:2.0
BEGIN:VEVENT
DTSTART:20260520T170000Z
DTEND:20260520T190000Z
LOCATION:2695 N Craycroft Rd\, Tucson\, AZ 85712
DESCRIPTION:Art &amp;amp\; Heart: A Cancer Support Circle\n\nA Welcoming Space for Art\, Conversation\, and Support\n\nThis group offers a supportive space for individuals currently undergoing cancer treatment to express themselves through art and open discussion. Led by an oncology nurse navigator\, participants are invited to share experiences\, connect with others\, and find encouragement in a calm\, understanding environment. No art experience is needed.\n\nOverview: https://events.tmcaz.com/event/art-heart-a-cancer-support-circle-1-cee2b0be/tab/overview/\n
SUMMARY:Art &amp; Heart: A Cancer Support Circle
END:VEVENT
END:VCALENDAR